Package: panelcn.mops Version: 1.24.0 Command: /home/biocbuild/R/R-4.3.1/bin/R CMD INSTALL panelcn.mops StartedAt: 2023-11-01 20:23:30 -0000 (Wed, 01 Nov 2023) EndedAt: 2023-11-01 20:23:49 -0000 (Wed, 01 Nov 2023) EllapsedTime: 18.5 seconds RetCode: 0 Status: OK