Package: panelcn.mops Version: 1.24.0 Command: /Library/Frameworks/R.framework/Resources/bin/R CMD check --install=check:panelcn.mops.install-out.txt --library=/Library/Frameworks/R.framework/Resources/library --no-vignettes --timings panelcn.mops_1.24.0.tar.gz StartedAt: 2024-03-03 22:25:28 -0500 (Sun, 03 Mar 2024) EndedAt: 2024-03-03 22:29:08 -0500 (Sun, 03 Mar 2024) EllapsedTime: 220.5 seconds RetCode: 0 Status: OK CheckDir: panelcn.mops.Rcheck Warnings: 0