Package: panelcn.mops Version: 1.24.0 Command: /home/biocbuild/bbs-3.18-bioc/R/bin/R CMD build --keep-empty-dirs --no-resave-data panelcn.mops StartedAt: 2024-04-15 18:27:26 -0400 (Mon, 15 Apr 2024) EndedAt: 2024-04-15 18:28:07 -0400 (Mon, 15 Apr 2024) EllapsedTime: 40.6 seconds RetCode: 0 Status: OK PackageFile: panelcn.mops_1.24.0.tar.gz PackageFileSize: 567.1 KiB