Package: panelcn.mops Version: 1.24.0 Command: /home/biocbuild/bbs-3.18-bioc/R/bin/R CMD check --install=check:panelcn.mops.install-out.txt --library=/home/biocbuild/bbs-3.18-bioc/R/site-library --timings panelcn.mops_1.24.0.tar.gz StartedAt: 2024-04-16 02:03:12 -0400 (Tue, 16 Apr 2024) EndedAt: 2024-04-16 02:06:58 -0400 (Tue, 16 Apr 2024) EllapsedTime: 226.7 seconds RetCode: 0 Status: OK CheckDir: panelcn.mops.Rcheck Warnings: 0