Package: panelcn.mops Version: 1.24.0 Command: chmod a+r panelcn.mops -R && F:\biocbuild\bbs-3.18-bioc\R\bin\R.exe CMD build --keep-empty-dirs --no-resave-data panelcn.mops StartedAt: 2024-04-15 20:07:48 -0400 (Mon, 15 Apr 2024) EndedAt: 2024-04-15 20:08:37 -0400 (Mon, 15 Apr 2024) EllapsedTime: 48.7 seconds RetCode: 0 Status: OK PackageFile: panelcn.mops_1.24.0.tar.gz PackageFileSize: 569.4 KiB