Package: parody Version: 1.60.0 Command: /home/biocbuild/R/R-4.3.1/bin/R CMD INSTALL parody StartedAt: 2023-11-01 20:08:45 -0000 (Wed, 01 Nov 2023) EndedAt: 2023-11-01 20:09:11 -0000 (Wed, 01 Nov 2023) EllapsedTime: 26.3 seconds RetCode: 0 Status: OK