Package: parody Version: 1.60.0 Command: /Library/Frameworks/R.framework/Resources/bin/R CMD INSTALL parody StartedAt: 2024-04-15 15:09:57 -0400 (Mon, 15 Apr 2024) EndedAt: 2024-04-15 15:10:29 -0400 (Mon, 15 Apr 2024) EllapsedTime: 32.7 seconds RetCode: 0 Status: OK