Package: parody Version: 1.60.0 Command: /home/biocbuild/bbs-3.18-bioc/R/bin/R CMD check --install=check:parody.install-out.txt --library=/home/biocbuild/bbs-3.18-bioc/R/site-library --timings parody_1.60.0.tar.gz StartedAt: 2024-04-16 02:06:40 -0400 (Tue, 16 Apr 2024) EndedAt: 2024-04-16 02:07:05 -0400 (Tue, 16 Apr 2024) EllapsedTime: 25.4 seconds RetCode: 0 Status: OK CheckDir: parody.Rcheck Warnings: 0