Package: partCNV Version: 1.0.0 Command: rm -rf partCNV.buildbin-libdir && mkdir partCNV.buildbin-libdir && /Users/biocbuild/BBS/utils/build-universal.sh partCNV_1.0.0.tar.gz /Library/Frameworks/R.framework/Resources/bin/R partCNV.buildbin-libdir StartedAt: 2024-03-04 00:55:29 -0500 (Mon, 04 Mar 2024) EndedAt: 2024-03-04 00:56:32 -0500 (Mon, 04 Mar 2024) EllapsedTime: 62.7 seconds RetCode: 0 Status: OK PackageFile: partCNV_1.0.0.tgz PackageFileSize: 4.655 MiB