Package: partCNV Version: 1.0.0 Command: /Library/Frameworks/R.framework/Resources/bin/R CMD build --keep-empty-dirs --no-resave-data partCNV StartedAt: 2024-03-03 17:44:07 -0500 (Sun, 03 Mar 2024) EndedAt: 2024-03-03 17:47:24 -0500 (Sun, 03 Mar 2024) EllapsedTime: 197.6 seconds RetCode: 0 Status: OK PackageFile: partCNV_1.0.0.tar.gz PackageFileSize: 4.637 MiB