Package: partCNV Version: 1.0.0 Command: rm -rf partCNV.buildbin-libdir && mkdir partCNV.buildbin-libdir && /Users/biocbuild/BBS/utils/build-universal.sh partCNV_1.0.0.tar.gz /Library/Frameworks/R.framework/Resources/bin/R partCNV.buildbin-libdir StartedAt: 2024-04-16 12:24:01 -0400 (Tue, 16 Apr 2024) EndedAt: 2024-04-16 12:25:35 -0400 (Tue, 16 Apr 2024) EllapsedTime: 94.3 seconds RetCode: 0 Status: OK PackageFile: partCNV_1.0.0.tgz PackageFileSize: 4.673 MiB