Package: partCNV Version: 1.0.0 Command: /Library/Frameworks/R.framework/Resources/bin/R CMD build --keep-empty-dirs --no-resave-data partCNV StartedAt: 2024-04-15 20:45:41 -0400 (Mon, 15 Apr 2024) EndedAt: 2024-04-15 20:49:26 -0400 (Mon, 15 Apr 2024) EllapsedTime: 225.6 seconds RetCode: 0 Status: OK PackageFile: partCNV_1.0.0.tar.gz PackageFileSize: 4.655 MiB