Package: pathRender Version: 1.70.0 Command: rm -rf pathRender.buildbin-libdir && mkdir pathRender.buildbin-libdir && /Users/biocbuild/BBS/utils/build-universal.sh pathRender_1.70.0.tar.gz /Library/Frameworks/R.framework/Resources/bin/R pathRender.buildbin-libdir StartedAt: 2024-03-04 00:55:33 -0500 (Mon, 04 Mar 2024) EndedAt: 2024-03-04 00:55:55 -0500 (Mon, 04 Mar 2024) EllapsedTime: 22.5 seconds RetCode: 0 Status: OK PackageFile: pathRender_1.70.0.tgz PackageFileSize: 354.9 KiB