Package: pathRender Version: 1.70.0 Command: /Library/Frameworks/R.framework/Resources/bin/R CMD INSTALL pathRender StartedAt: 2024-03-03 15:11:03 -0500 (Sun, 03 Mar 2024) EndedAt: 2024-03-03 15:11:21 -0500 (Sun, 03 Mar 2024) EllapsedTime: 17.2 seconds RetCode: 0 Status: OK