Package: pathRender Version: 1.70.0 Command: /home/biocbuild/bbs-3.18-bioc/R/bin/R CMD build --keep-empty-dirs --no-resave-data pathRender StartedAt: 2024-04-15 18:28:41 -0400 (Mon, 15 Apr 2024) EndedAt: 2024-04-15 18:29:14 -0400 (Mon, 15 Apr 2024) EllapsedTime: 33.7 seconds RetCode: 0 Status: OK PackageFile: pathRender_1.70.0.tar.gz PackageFileSize: 146.5 KiB