Package: pathVar Version: 1.32.0 Command: /home/biocbuild/R/R-4.3.1/bin/R CMD INSTALL pathVar StartedAt: 2023-11-01 20:12:39 -0000 (Wed, 01 Nov 2023) EndedAt: 2023-11-01 20:12:46 -0000 (Wed, 01 Nov 2023) EllapsedTime: 7.1 seconds RetCode: 0 Status: OK