Package: pathVar Version: 1.32.0 Command: /Library/Frameworks/R.framework/Resources/bin/R CMD build --keep-empty-dirs --no-resave-data pathVar StartedAt: 2024-04-15 20:46:42 -0400 (Mon, 15 Apr 2024) EndedAt: 2024-04-15 20:51:21 -0400 (Mon, 15 Apr 2024) EllapsedTime: 278.9 seconds RetCode: 0 Status: OK PackageFile: pathVar_1.32.0.tar.gz PackageFileSize: 4.062 MiB