Package: pathVar Version: 1.32.0 Command: /home/biocbuild/bbs-3.18-bioc/R/bin/R CMD build --keep-empty-dirs --no-resave-data pathVar StartedAt: 2024-04-15 18:28:59 -0400 (Mon, 15 Apr 2024) EndedAt: 2024-04-15 18:30:27 -0400 (Mon, 15 Apr 2024) EllapsedTime: 87.7 seconds RetCode: 0 Status: OK PackageFile: pathVar_1.32.0.tar.gz PackageFileSize: 3.962 MiB