Package: pathVar Version: 1.32.0 Command: rm -rf pathVar.buildbin-libdir && mkdir pathVar.buildbin-libdir && F:\biocbuild\bbs-3.18-bioc\R\bin\R.exe CMD INSTALL --build --library=pathVar.buildbin-libdir pathVar_1.32.0.tar.gz StartedAt: 2024-04-16 07:25:29 -0400 (Tue, 16 Apr 2024) EndedAt: 2024-04-16 07:25:47 -0400 (Tue, 16 Apr 2024) EllapsedTime: 17.8 seconds RetCode: 0 Status: OK PackageFile: pathVar_1.32.0.zip PackageFileSize: 4.104 MiB