Package: paxtoolsr Version: 1.36.0 Command: rm -rf paxtoolsr.buildbin-libdir && mkdir paxtoolsr.buildbin-libdir && F:\biocbuild\bbs-3.18-bioc\R\bin\R.exe CMD INSTALL --build --library=paxtoolsr.buildbin-libdir paxtoolsr_1.36.0.tar.gz StartedAt: 2024-04-11 07:25:22 -0400 (Thu, 11 Apr 2024) EndedAt: 2024-04-11 07:25:40 -0400 (Thu, 11 Apr 2024) EllapsedTime: 18.0 seconds RetCode: 0 Status: OK PackageFile: paxtoolsr_1.36.0.zip PackageFileSize: 24.83 MiB