Package: paxtoolsr Version: 1.36.0 Command: F:\biocbuild\bbs-3.18-bioc\R\bin\R.exe CMD check --no-multiarch --install=check:paxtoolsr.install-out.txt --library=F:\biocbuild\bbs-3.18-bioc\R\library --no-vignettes --timings paxtoolsr_1.36.0.tar.gz StartedAt: 2024-04-11 03:35:26 -0400 (Thu, 11 Apr 2024) EndedAt: 2024-04-11 03:37:42 -0400 (Thu, 11 Apr 2024) EllapsedTime: 135.9 seconds RetCode: 1 Status: ERROR CheckDir: paxtoolsr.Rcheck Warnings: NA