Package: pcaMethods Version: 1.94.0 Command: /Library/Frameworks/R.framework/Resources/bin/R CMD build --keep-empty-dirs --no-resave-data pcaMethods StartedAt: 2024-03-03 17:45:49 -0500 (Sun, 03 Mar 2024) EndedAt: 2024-03-03 17:49:05 -0500 (Sun, 03 Mar 2024) EllapsedTime: 195.2 seconds RetCode: 0 Status: OK PackageFile: pcaMethods_1.94.0.tar.gz PackageFileSize: 1013 KiB