Package: peakPantheR Version: 1.16.1 Command: rm -rf peakPantheR.buildbin-libdir && mkdir peakPantheR.buildbin-libdir && /Users/biocbuild/BBS/utils/build-universal.sh peakPantheR_1.16.1.tar.gz /Library/Frameworks/R.framework/Resources/bin/R peakPantheR.buildbin-libdir StartedAt: 2024-03-04 00:55:45 -0500 (Mon, 04 Mar 2024) EndedAt: 2024-03-04 00:56:04 -0500 (Mon, 04 Mar 2024) EllapsedTime: 18.3 seconds RetCode: 0 Status: OK PackageFile: peakPantheR_1.16.1.tgz PackageFileSize: 4.312 MiB