Package: pgca Version: 1.26.0 Command: /home/biocbuild/R/R-4.3.1/bin/R CMD check --install=check:pgca.install-out.txt --library=/home/biocbuild/R/R-4.3.1/site-library --no-vignettes --timings pgca_1.26.0.tar.gz StartedAt: 2023-11-02 13:02:15 -0000 (Thu, 02 Nov 2023) EndedAt: 2023-11-02 13:02:32 -0000 (Thu, 02 Nov 2023) EllapsedTime: 17.0 seconds RetCode: 0 Status: OK CheckDir: pgca.Rcheck Warnings: 0