Package: pgca Version: 1.26.0 Command: /Library/Frameworks/R.framework/Resources/bin/R CMD check --install=check:pgca.install-out.txt --library=/Library/Frameworks/R.framework/Resources/library --no-vignettes --timings pgca_1.26.0.tar.gz StartedAt: 2024-04-16 06:51:26 -0400 (Tue, 16 Apr 2024) EndedAt: 2024-04-16 06:52:06 -0400 (Tue, 16 Apr 2024) EllapsedTime: 40.0 seconds RetCode: 0 Status: OK CheckDir: pgca.Rcheck Warnings: 0