Package: pgca Version: 1.26.0 Command: rm -rf pgca.buildbin-libdir && mkdir pgca.buildbin-libdir && F:\biocbuild\bbs-3.18-bioc\R\bin\R.exe CMD INSTALL --build --library=pgca.buildbin-libdir pgca_1.26.0.tar.gz StartedAt: 2024-04-16 07:26:04 -0400 (Tue, 16 Apr 2024) EndedAt: 2024-04-16 07:26:08 -0400 (Tue, 16 Apr 2024) EllapsedTime: 3.7 seconds RetCode: 0 Status: OK PackageFile: pgca_1.26.0.zip PackageFileSize: 150.7 KiB