Package: pgca Version: 1.26.0 Command: chmod a+r pgca -R && F:\biocbuild\bbs-3.18-bioc\R\bin\R.exe CMD build --keep-empty-dirs --no-resave-data pgca StartedAt: 2024-04-15 20:15:54 -0400 (Mon, 15 Apr 2024) EndedAt: 2024-04-15 20:16:00 -0400 (Mon, 15 Apr 2024) EllapsedTime: 6.1 seconds RetCode: 0 Status: OK PackageFile: pgca_1.26.0.tar.gz PackageFileSize: 216.9 KiB