Package: phantasusLite Version: 1.0.0 Command: rm -rf phantasusLite.buildbin-libdir && mkdir phantasusLite.buildbin-libdir && /Users/biocbuild/BBS/utils/build-universal.sh phantasusLite_1.0.0.tar.gz /Library/Frameworks/R.framework/Resources/bin/R phantasusLite.buildbin-libdir StartedAt: 2024-03-04 00:55:58 -0500 (Mon, 04 Mar 2024) EndedAt: 2024-03-04 00:56:25 -0500 (Mon, 04 Mar 2024) EllapsedTime: 27.7 seconds RetCode: 0 Status: OK PackageFile: phantasusLite_1.0.0.tgz PackageFileSize: 301.3 KiB