Package: phantasusLite Version: 1.0.0 Command: /Library/Frameworks/R.framework/Resources/bin/R CMD INSTALL phantasusLite StartedAt: 2024-03-03 15:11:17 -0500 (Sun, 03 Mar 2024) EndedAt: 2024-03-03 15:11:41 -0500 (Sun, 03 Mar 2024) EllapsedTime: 24.8 seconds RetCode: 0 Status: OK