Package: phantasusLite Version: 1.0.0 Command: rm -rf phantasusLite.buildbin-libdir && mkdir phantasusLite.buildbin-libdir && /Users/biocbuild/BBS/utils/build-universal.sh phantasusLite_1.0.0.tar.gz /Library/Frameworks/R.framework/Resources/bin/R phantasusLite.buildbin-libdir StartedAt: 2024-04-16 12:24:58 -0400 (Tue, 16 Apr 2024) EndedAt: 2024-04-16 12:25:37 -0400 (Tue, 16 Apr 2024) EllapsedTime: 39.6 seconds RetCode: 0 Status: OK PackageFile: phantasusLite_1.0.0.tgz PackageFileSize: 301.4 KiB