Package: phantasusLite Version: 1.0.0 Command: /home/biocbuild/bbs-3.18-bioc/R/bin/R CMD build --keep-empty-dirs --no-resave-data phantasusLite StartedAt: 2024-04-15 18:31:29 -0400 (Mon, 15 Apr 2024) EndedAt: 2024-04-15 18:33:25 -0400 (Mon, 15 Apr 2024) EllapsedTime: 116.2 seconds RetCode: 0 Status: OK PackageFile: phantasusLite_1.0.0.tar.gz PackageFileSize: 232.2 KiB