Package: philr Version: 1.28.0 Command: rm -rf philr.buildbin-libdir && mkdir philr.buildbin-libdir && F:\biocbuild\bbs-3.18-bioc\R\bin\R.exe CMD INSTALL --build --library=philr.buildbin-libdir philr_1.28.0.tar.gz StartedAt: 2024-04-16 07:26:19 -0400 (Tue, 16 Apr 2024) EndedAt: 2024-04-16 07:26:34 -0400 (Tue, 16 Apr 2024) EllapsedTime: 14.8 seconds RetCode: 0 Status: OK PackageFile: philr_1.28.0.zip PackageFileSize: 382.9 KiB