Package: plasmut Version: 1.0.0 Command: /home/biocbuild/R/R-4.3.1/bin/R CMD check --install=check:plasmut.install-out.txt --library=/home/biocbuild/R/R-4.3.1/site-library --no-vignettes --timings plasmut_1.0.0.tar.gz StartedAt: 2023-11-02 13:08:10 -0000 (Thu, 02 Nov 2023) EndedAt: 2023-11-02 13:08:41 -0000 (Thu, 02 Nov 2023) EllapsedTime: 31.1 seconds RetCode: 0 Status: OK CheckDir: plasmut.Rcheck Warnings: 0