Package: plasmut Version: 1.0.0 Command: rm -rf plasmut.buildbin-libdir && mkdir plasmut.buildbin-libdir && F:\biocbuild\bbs-3.18-bioc\R\bin\R.exe CMD INSTALL --build --library=plasmut.buildbin-libdir plasmut_1.0.0.tar.gz StartedAt: 2024-04-16 07:26:48 -0400 (Tue, 16 Apr 2024) EndedAt: 2024-04-16 07:26:55 -0400 (Tue, 16 Apr 2024) EllapsedTime: 7.1 seconds RetCode: 0 Status: OK PackageFile: plasmut_1.0.0.zip PackageFileSize: 291.1 KiB