Package: plgem Version: 1.74.0 Command: rm -rf plgem.buildbin-libdir && mkdir plgem.buildbin-libdir && /Users/biocbuild/BBS/utils/build-universal.sh plgem_1.74.0.tar.gz /Library/Frameworks/R.framework/Resources/bin/R plgem.buildbin-libdir StartedAt: 2024-03-04 00:56:23 -0500 (Mon, 04 Mar 2024) EndedAt: 2024-03-04 00:56:30 -0500 (Mon, 04 Mar 2024) EllapsedTime: 6.7 seconds RetCode: 0 Status: OK PackageFile: plgem_1.74.0.tgz PackageFileSize: 1.115 MiB