Package: plgem Version: 1.74.0 Command: /home/biocbuild/bbs-3.18-bioc/R/bin/R CMD build --keep-empty-dirs --no-resave-data plgem StartedAt: 2024-04-15 18:33:31 -0400 (Mon, 15 Apr 2024) EndedAt: 2024-04-15 18:33:44 -0400 (Mon, 15 Apr 2024) EllapsedTime: 13.2 seconds RetCode: 0 Status: OK PackageFile: plgem_1.74.0.tar.gz PackageFileSize: 918.6 KiB