Package: plgem Version: 1.74.0 Command: /home/biocbuild/bbs-3.18-bioc/R/bin/R CMD check --install=check:plgem.install-out.txt --library=/home/biocbuild/bbs-3.18-bioc/R/site-library --timings plgem_1.74.0.tar.gz StartedAt: 2024-04-16 02:20:59 -0400 (Tue, 16 Apr 2024) EndedAt: 2024-04-16 02:21:57 -0400 (Tue, 16 Apr 2024) EllapsedTime: 57.9 seconds RetCode: 0 Status: OK CheckDir: plgem.Rcheck Warnings: 0