Package: plier Version: 1.72.0 Command: rm -rf plier.buildbin-libdir && mkdir plier.buildbin-libdir && /Users/biocbuild/BBS/utils/build-universal.sh plier_1.72.0.tar.gz /Library/Frameworks/R.framework/Resources/bin/R plier.buildbin-libdir StartedAt: 2024-03-04 00:56:25 -0500 (Mon, 04 Mar 2024) EndedAt: 2024-03-04 00:56:36 -0500 (Mon, 04 Mar 2024) EllapsedTime: 10.2 seconds RetCode: 0 Status: OK PackageFile: plier_1.72.0.tgz PackageFileSize: 43.24 KiB