Package: plier Version: 1.72.0 Command: F:\biocbuild\bbs-3.18-bioc\R\bin\R.exe CMD check --no-multiarch --install=check:plier.install-out.txt --library=F:\biocbuild\bbs-3.18-bioc\R\library --no-vignettes --timings plier_1.72.0.tar.gz StartedAt: 2024-04-16 03:47:08 -0400 (Tue, 16 Apr 2024) EndedAt: 2024-04-16 03:47:45 -0400 (Tue, 16 Apr 2024) EllapsedTime: 37.2 seconds RetCode: 0 Status: WARNINGS CheckDir: plier.Rcheck Warnings: 1