Package: plyranges Version: 1.22.0 Command: /Library/Frameworks/R.framework/Resources/bin/R CMD build --keep-empty-dirs --no-resave-data plyranges StartedAt: 2024-03-03 17:50:23 -0500 (Sun, 03 Mar 2024) EndedAt: 2024-03-03 17:51:28 -0500 (Sun, 03 Mar 2024) EllapsedTime: 65.7 seconds RetCode: 0 Status: OK PackageFile: plyranges_1.22.0.tar.gz PackageFileSize: 1.24 MiB