Package: podkat Version: 1.34.0 Command: rm -rf podkat.buildbin-libdir && mkdir podkat.buildbin-libdir && F:\biocbuild\bbs-3.18-bioc\R\bin\R.exe CMD INSTALL --build --library=podkat.buildbin-libdir podkat_1.34.0.tar.gz StartedAt: 2024-04-16 07:27:08 -0400 (Tue, 16 Apr 2024) EndedAt: 2024-04-16 07:29:23 -0400 (Tue, 16 Apr 2024) EllapsedTime: 134.9 seconds RetCode: 0 Status: OK PackageFile: podkat_1.34.0.zip PackageFileSize: 6.33 MiB