Package: pqsfinder Version: 2.18.0 Command: /home/biocbuild/R/R-4.3.1/bin/R CMD INSTALL pqsfinder StartedAt: 2023-11-01 20:10:31 -0000 (Wed, 01 Nov 2023) EndedAt: 2023-11-01 20:11:46 -0000 (Wed, 01 Nov 2023) EllapsedTime: 75.1 seconds RetCode: 0 Status: OK