Package: pqsfinder Version: 2.18.0 Command: /Library/Frameworks/R.framework/Resources/bin/R CMD check --install=check:pqsfinder.install-out.txt --library=/Library/Frameworks/R.framework/Resources/library --no-vignettes --timings pqsfinder_2.18.0.tar.gz StartedAt: 2024-03-03 22:37:32 -0500 (Sun, 03 Mar 2024) EndedAt: 2024-03-03 22:40:51 -0500 (Sun, 03 Mar 2024) EllapsedTime: 198.8 seconds RetCode: 0 Status: WARNINGS CheckDir: pqsfinder.Rcheck Warnings: 1