Package: prebs Version: 1.42.0 Command: /home/biocbuild/R/R-4.3.1/bin/R CMD build --keep-empty-dirs --no-resave-data prebs StartedAt: 2023-11-02 04:39:36 -0000 (Thu, 02 Nov 2023) EndedAt: 2023-11-02 04:43:19 -0000 (Thu, 02 Nov 2023) EllapsedTime: 223.3 seconds RetCode: 0 Status: OK PackageFile: prebs_1.42.0.tar.gz PackageFileSize: 274.4 KiB