Package: prebs Version: 1.42.0 Command: /home/biocbuild/R/R-4.3.1/bin/R CMD INSTALL prebs StartedAt: 2023-11-01 20:50:01 -0000 (Wed, 01 Nov 2023) EndedAt: 2023-11-01 20:50:48 -0000 (Wed, 01 Nov 2023) EllapsedTime: 46.6 seconds RetCode: 0 Status: OK