Package: prebs Version: 1.42.0 Command: /Library/Frameworks/R.framework/Resources/bin/R CMD check --install=check:prebs.install-out.txt --library=/Library/Frameworks/R.framework/Resources/library --no-vignettes --timings prebs_1.42.0.tar.gz StartedAt: 2024-03-03 22:37:57 -0500 (Sun, 03 Mar 2024) EndedAt: 2024-03-03 22:46:16 -0500 (Sun, 03 Mar 2024) EllapsedTime: 499.0 seconds RetCode: 0 Status: OK CheckDir: prebs.Rcheck Warnings: 0