Package: preprocessCore Version: 1.64.0 Command: /home/biocbuild/R/R-4.3.1/bin/R CMD INSTALL preprocessCore StartedAt: 2023-11-01 20:03:46 -0000 (Wed, 01 Nov 2023) EndedAt: 2023-11-01 20:04:01 -0000 (Wed, 01 Nov 2023) EllapsedTime: 14.7 seconds RetCode: 0 Status: OK