Package: preprocessCore Version: 1.64.0 Command: rm -rf preprocessCore.buildbin-libdir && mkdir preprocessCore.buildbin-libdir && /Users/biocbuild/BBS/utils/build-universal.sh preprocessCore_1.64.0.tar.gz /Library/Frameworks/R.framework/Resources/bin/R preprocessCore.buildbin-libdir StartedAt: 2024-03-04 00:56:46 -0500 (Mon, 04 Mar 2024) EndedAt: 2024-03-04 00:57:23 -0500 (Mon, 04 Mar 2024) EllapsedTime: 37.3 seconds RetCode: 0 Status: OK PackageFile: preprocessCore_1.64.0.tgz PackageFileSize: 192.1 KiB