Package: preprocessCore Version: 1.64.0 Command: rm -rf preprocessCore.buildbin-libdir && mkdir preprocessCore.buildbin-libdir && /Users/biocbuild/BBS/utils/build-universal.sh preprocessCore_1.64.0.tar.gz /Library/Frameworks/R.framework/Resources/bin/R preprocessCore.buildbin-libdir StartedAt: 2024-04-16 12:26:47 -0400 (Tue, 16 Apr 2024) EndedAt: 2024-04-16 12:27:18 -0400 (Tue, 16 Apr 2024) EllapsedTime: 31.6 seconds RetCode: 0 Status: OK PackageFile: preprocessCore_1.64.0.tgz PackageFileSize: 191.8 KiB