Package: preprocessCore Version: 1.64.0 Command: /Library/Frameworks/R.framework/Resources/bin/R CMD check --install=check:preprocessCore.install-out.txt --library=/Library/Frameworks/R.framework/Resources/library --no-vignettes --timings preprocessCore_1.64.0.tar.gz StartedAt: 2024-04-16 07:07:25 -0400 (Tue, 16 Apr 2024) EndedAt: 2024-04-16 07:08:07 -0400 (Tue, 16 Apr 2024) EllapsedTime: 42.0 seconds RetCode: 0 Status: WARNINGS CheckDir: preprocessCore.Rcheck Warnings: 1